BEGIN:VCALENDAR
VERSION:2.0
PRODID:-//gyrobase/iCalendar//NONSGML v1.0//EN
BEGIN:VEVENT
LOCATION:943 Liberty Avenue\,Pittsburgh\, \,Pittsburgh\, PA\, 15222
DTSTART:20260131T200000
DTEND:20260131T213000
RRULE:FREQ=MONTHLY;INTERVAL=1;UNTIL=20260627;BYDAY=5SA
SUMMARY:Close Encounters with Well Known Strangers
DESCRIPTION:See improv troupe Well Known Strangers perform an unscripted play based on audience suggestions. The scenes typically happen in close proximity in time and space. The storylines are often weird\, wacky\, and wonderful\, pushing the boundaries of the imagination. Don't miss out on all the funny things that happened all at once--as told by this fun-loving group of goofs. Price: $15.00
LOCATION;ALTREP="https://www.pghcitypaper.com/pittsburgh/arcade-comedy-theater/Location?oid=1623712":Arcade Comedy Theater @ 943 Liberty Avenue\,Pittsburgh\,PA  15222
CATEGORIES:Comedy
END:VEVENT
END:VCALENDAR