BEGIN:VCALENDAR
VERSION:2.0
PRODID:-//gyrobase/iCalendar//NONSGML v1.0//EN
BEGIN:VEVENT
LOCATION:500 1st Ave.\,Pittsburgh\, \,Pittsburgh\, PA\, 15219
DTSTART:20260429T171500
DTEND:20260429T200000
SUMMARY:Celebrate to Elevate
DESCRIPTION:Build community and support human services during one special celebration April 29! Celebrate to Elevate is United Way of Southwestern Pennsylvania’s largest annual fundraising event\, and features amazing prizes and raffle baskets\, buffet stations\, cocktails\, photo opportunities\, engagement activities and much more. All proceeds support United Way’s work helping local people meet basic needs\, move to financial stability and build for success in school and life. Be inspired by the good that women and allies can accomplish together and learn how United Way and partner agencies support women and children across Allegheny\, Armstrong\, Butler\, Fayette and Westmoreland counties. Price: $120
LOCATION;ALTREP="https://www.pghcitypaper.com/pittsburgh/pnc-firstside-center/Location?oid=1633559":PNC Firstside Center @ 500 1st Ave.\,Pittsburgh\,PA  15219
CATEGORIES:Fundraisers
END:VEVENT
END:VCALENDAR