BEGIN:VCALENDAR
VERSION:2.0
PRODID:-//gyrobase/iCalendar//NONSGML v1.0//EN
BEGIN:VEVENT
LOCATION:100 S. Commons\,Pittsburgh\, \,Pittsburgh\, PA\, 15212
DTSTART:20260424T130000
DTEND:20260424T160000
SUMMARY:POP TARTS TO HOST FIRST-EVER EDIBLE MASCOT SACRAFICE FOR FANS
DESCRIPTION:On April 24\, Pop-Tarts is bringing its viral Edible Mascot ritual to the streets of Pittsburgh in the first-ever Edible Mascot sacrifice for the fans. Football fans will have the chance to participate in — and taste — the can’t-miss conclusion to the Pop-Tarts Protein Slammin’ Strawberry mascot’s epic journey to “go pro” as they get drafted to Mouth Heaven on one of the biggest weekends in football. The free\, one-day event opens to football fans of all ages at 1:00 p.m.\, offering photo opportunities with the Pop-Tarts Edible Mascot\, the giant Pop-Tarts Bowl toaster and more! Price: FREE
LOCATION;ALTREP="https://www.pghcitypaper.com/pittsburgh/nova-place/Location?oid=1870644":Nova Place @ 100 S. Commons\,Pittsburgh\,PA  15212
CATEGORIES:Sports
END:VEVENT
END:VCALENDAR