BEGIN:VCALENDAR
VERSION:2.0
PRODID:-//gyrobase/iCalendar//NONSGML v1.0//EN
BEGIN:VEVENT
SUMMARY:Psychic Readings & Mediumship with Marita
DESCRIPTION:Join us at T’s Wicked Wonders for a deeply transformative experience with Marita\, an accomplished intuitive practitioner with more than three decades of professional experience in psychic insight and mediumship. As a medium\, Marita serves as a bridge between the physical and spiritual realms\, channeling clear\, compassionate communication from departed loved ones\, angels\, and spirit guides. Through this sacred connection\, she brings messages of love\, closure\, and understanding—often revealing guidance that supports emotional healing and renewed purpose. Walk ins are welcomed\, spots fill fast—don’t wait until the universe makes the decision for you. Price: $45.00
LOCATION;ALTREP="https://www.pghcitypaper.com":
CATEGORIES:Other Stuff
END:VEVENT
BEGIN:VEVENT
DTSTART:20260424T110000
DTEND:20260424T190000
SUMMARY:Psychic Readings & Mediumship with Marita
DESCRIPTION:Join us at T’s Wicked Wonders for a deeply transformative experience with Marita\, an accomplished intuitive practitioner with more than three decades of professional experience in psychic insight and mediumship. As a medium\, Marita serves as a bridge between the physical and spiritual realms\, channeling clear\, compassionate communication from departed loved ones\, angels\, and spirit guides. Through this sacred connection\, she brings messages of love\, closure\, and understanding—often revealing guidance that supports emotional healing and renewed purpose. Walk ins are welcomed\, spots fill fast—don’t wait until the universe makes the decision for you. Price: $45.00
LOCATION;ALTREP="https://www.pghcitypaper.com":
CATEGORIES:Other Stuff
END:VEVENT
BEGIN:VEVENT
DTSTART:20260425T110000
DTEND:20260425T190000
SUMMARY:Psychic Readings & Mediumship with Marita
DESCRIPTION:Join us at T’s Wicked Wonders for a deeply transformative experience with Marita\, an accomplished intuitive practitioner with more than three decades of professional experience in psychic insight and mediumship. As a medium\, Marita serves as a bridge between the physical and spiritual realms\, channeling clear\, compassionate communication from departed loved ones\, angels\, and spirit guides. Through this sacred connection\, she brings messages of love\, closure\, and understanding—often revealing guidance that supports emotional healing and renewed purpose. Walk ins are welcomed\, spots fill fast—don’t wait until the universe makes the decision for you. Price: $45.00
LOCATION;ALTREP="https://www.pghcitypaper.com":
CATEGORIES:Other Stuff
END:VEVENT
END:VCALENDAR